BEGIN:VCALENDAR
VERSION:2.0
PRODID:-//TGS Solidário - ECPv6.10.1.1//NONSGML v1.0//EN
CALSCALE:GREGORIAN
METHOD:PUBLISH
X-ORIGINAL-URL:https://tgssolidario.com.br
X-WR-CALDESC:Eventos para TGS Solidário
REFRESH-INTERVAL;VALUE=DURATION:PT1H
X-Robots-Tag:noindex
X-PUBLISHED-TTL:PT1H
BEGIN:VTIMEZONE
TZID:America/Sao_Paulo
BEGIN:STANDARD
TZOFFSETFROM:-0300
TZOFFSETTO:-0300
TZNAME:-03
DTSTART:20250101T000000
END:STANDARD
END:VTIMEZONE
BEGIN:VEVENT
DTSTART;TZID=America/Sao_Paulo:20250725T080000
DTEND;TZID=America/Sao_Paulo:20250730T170000
DTSTAMP:20260419T135305
CREATED:20250728T131857Z
LAST-MODIFIED:20250728T131857Z
UID:11375-1753430400-1753894800@tgssolidario.com.br
SUMMARY:Passeio para Crianças
DESCRIPTION:🚨 Boas notícias sobre o Projeto Ame-Os! 🚨 \nQueridos amigos\, peço só a atenção de vocês rapidinho …. \nTemos uma oportunidade incrível para alegrar as crianças do Projeto Ame-Os com um passeio super especial: vamos levar 40 crianças ao evento Moto Capital\, nos dias 29 ou 30 de julho\, das 13h às 17h. 🙌 \nEssa ação faz parte de um movimento maior: fomos apadrinhados por um motoclube parceiro e estaremos no evento\, na área chamada “Vila do Bem”\, onde o projeto será apresentado para potenciais voluntários e financiadores. Uma porta maravilhosa que Deus abriu! \nPara viabilizar tudo isso\, precisamos levantar recursos até DOMINGO. \n– Camisetas para as crianças e voluntários 35\,00\n– Ônibus para transporte 550\,00\n🚨Precisamos de voluntários para acompanhar as crianças no dia. \nSe você puder contribuir com qualquer valor ou se voluntariar para estar presente no passeio\, será top! 💛 \nVamos juntos plantar sementes de amor e esperança no coração dessas crianças\, refletindo o cuidado e a generosidade de Jesus!\n“Pois nem mesmo o Filho do homem veio para ser servido\, mas para servir e dar a sua vida em resgate por muitos.” (Marcos 10:45) \nFale comigo se quiser ajudar ou saber mais. Contamos com vocês! 🙏 \n@projetoameos  \nPix para doação 33.633.133/0001-54 \nCom carinho\,\nLídia\nContato:  61998887713 (Lídia)
URL:https://tgssolidario.com.br/acao/passeio-para-criancas/
LOCATION:Criar um novo\, SQN 714\, Brasília\, DF\, 70755000\, Brazil
CATEGORIES:Trabalho social
ORGANIZER;CN="L%C3%ADdia":MAILTO:lidia98almeida@gmail.com
END:VEVENT
END:VCALENDAR