BEGIN:VCALENDAR
VERSION:2.0
PRODID:-//TGS Solidário - ECPv6.10.1.1//NONSGML v1.0//EN
CALSCALE:GREGORIAN
METHOD:PUBLISH
X-ORIGINAL-URL:https://tgssolidario.com.br
X-WR-CALDESC:Eventos para TGS Solidário
REFRESH-INTERVAL;VALUE=DURATION:PT1H
X-Robots-Tag:noindex
X-PUBLISHED-TTL:PT1H
BEGIN:VTIMEZONE
TZID:America/Sao_Paulo
BEGIN:STANDARD
TZOFFSETFROM:-0300
TZOFFSETTO:-0300
TZNAME:-03
DTSTART:20250101T000000
END:STANDARD
END:VTIMEZONE
BEGIN:VEVENT
DTSTART;VALUE=DATE:20250102
DTEND;VALUE=DATE:20250203
DTSTAMP:20260419T222849
CREATED:20250114T210859Z
LAST-MODIFIED:20250114T210859Z
UID:10988-1735776000-1738540799@tgssolidario.com.br
SUMMARY:Aprendendo a ler
DESCRIPTION:Olá\, tudo bem? Somos da Associação de Famílias Quilombolas de Santa Maria – DF\, da Comunidade Solidária. Estamos com uma campanha de arrecadação de materiais escolares\, mochilas e brinquedos para ajudar as crianças e mães solo\, vítimas de violência doméstica. \nSe você quiser ajudar\, estamos precisando muito de voluntários e doadores. Desde já\, agradecemos! Venha fazer parte dessa campanha maravilhosa! A Comunidade Solidária de Santa Maria – DF agradece.
URL:https://tgssolidario.com.br/acao/aprendendo-a-ler/
LOCATION:Ac 404 conj b lote 07 Santa Maria Sul\, Ac 404 conj b lote 07\, Santa Maria\, 72504120\, Brazil
CATEGORIES:Trabalho social
ATTACH;FMTTYPE=image/jpeg:https://tgssolidario.com.br/wp-content/uploads/2025/01/cf262fbb-fb40-43e1-9f9b-6c860e50c4b1.jpeg
ORGANIZER;CN="wagner":MAILTO:Wagnerpereira04@icloud.com
END:VEVENT
END:VCALENDAR