BEGIN:VCALENDAR
VERSION:2.0
PRODID:-//TGS Solidário - ECPv6.10.1.1//NONSGML v1.0//EN
CALSCALE:GREGORIAN
METHOD:PUBLISH
X-ORIGINAL-URL:https://tgssolidario.com.br
X-WR-CALDESC:Eventos para TGS Solidário
REFRESH-INTERVAL;VALUE=DURATION:PT1H
X-Robots-Tag:noindex
X-PUBLISHED-TTL:PT1H
BEGIN:VTIMEZONE
TZID:America/Sao_Paulo
BEGIN:STANDARD
TZOFFSETFROM:-0300
TZOFFSETTO:-0300
TZNAME:-03
DTSTART:20240101T000000
END:STANDARD
END:VTIMEZONE
BEGIN:VEVENT
DTSTART;TZID=America/Sao_Paulo:20241014T103000
DTEND;TZID=America/Sao_Paulo:20241214T170000
DTSTAMP:20260420T021123
CREATED:20241015T133049Z
LAST-MODIFIED:20241015T133049Z
UID:10636-1728901800-1734195600@tgssolidario.com.br
SUMMARY:Apoio a mulheres vulneráveis vítimas de violência domésticas
DESCRIPTION:Olá amigos voluntários!\nNós da associação de famílias Quilombolas ajudamos mulheres vítimas de violência doméstica com apoio de alimentos\, cobertores\, roupas e produtos de higiene pessoal da mulher! \nCom isso\, vim aqui convidar cada um de vocês para participar do nosso projeto para que possamos alcançar mais pessoas que o nosso trabalho é todo voltado de doações sem fins lucrativos que ajuda a mulheres vulneráveis que já passaram por situações difíceis!!\nSe você quer ajudar você pode estar ajudando nosso trabalho chegar em mais pessoas com a sua doação precisamos de alimentos produtos de higiene da mulher cobertores e roupas desde já Associação de famílias Quilombolas agradece projeto sócio-cultural wawacardoso faça sua doação ponto de arrecadação Ac 404 conj b lote casa 01santa Maria Sul projeto sociocultural wawacardoso
URL:https://tgssolidario.com.br/acao/apoio-a-mulheres-vulneraveis-vitimas-de-violencia-domesticas/
LOCATION:Ac 404 conj b lote 07 Santa Maria Sul\, Ac 404 conj b lote 07\, Santa Maria\, 72504120\, Brazil
CATEGORIES:Trabalho social
ATTACH;FMTTYPE=image/jpeg:https://tgssolidario.com.br/wp-content/uploads/2024/10/IMG_2754.jpeg
ORGANIZER;CN="wagner":MAILTO:Wagnerpereira04@icloud.com
END:VEVENT
BEGIN:VEVENT
DTSTART;TZID=America/Sao_Paulo:20241103T080000
DTEND;TZID=America/Sao_Paulo:20241225T170000
DTSTAMP:20260420T021123
CREATED:20241030T130012Z
LAST-MODIFIED:20241112T141915Z
UID:10831-1730620800-1735146000@tgssolidario.com.br
SUMMARY:Pix do Noel
DESCRIPTION:O Natal no Taguatinga Shopping ganha um toque especial com a campanha Pix do Noel\, iniciativa do TGS Solidário. Com o coração aberto e o espírito natalino renovado\, convidamos você a transformar pequenos gestos em grandes mudanças\, apoiando quem mais precisa. \nAs doações arrecadadas irão beneficiar instituições que fazem um trabalho essencial em comunidades do Distrito Federal: as Obras Sociais Irmãos Áureo\, com atuação em Taguatinga e Brazlândia\, e o Instituto Por Amor\, localizado no Sol Nascente. \nComo Doar? \nDoar é simples e rápido! Em pontos estratégicos do Taguatinga Shopping – na praça de alimentação\, na roda gigante da praça central\, no trono do Papai Noel na praça de vidro\, nas lojas parceiras e na loja TGS Solidário\, no piso 3 – você encontra QR Codes prontos para receber sua contribuição. Basta abrir o aplicativo do seu banco\, apontar para o QR Code e escolher o valor que deseja doar. Todo valor será bem-vindo e sua generosidade fará diferença na vida de muitas famílias\, levando esperança e conforto onde mais precisam. \nVamos juntos fazer deste Natal um momento inesquecível? Venha ao Taguatinga Shopping\, participe da Campanha Pix do Noel e faça parte dessa corrente de amor e solidariedade.
URL:https://tgssolidario.com.br/acao/pix-do-noel/
LOCATION:Taguatinga Shopping\, QS 01 Lote 40 - Taguatinga\, Brasília\, DF\, 71950-904\, Brazil
CATEGORIES:Trabalho social
ATTACH;FMTTYPE=image/jpeg:https://tgssolidario.com.br/wp-content/uploads/2024/10/pixdonoelt.jpg
END:VEVENT
END:VCALENDAR