BEGIN:VCALENDAR
VERSION:2.0
PRODID:-//TGS Solidário - ECPv6.10.1.1//NONSGML v1.0//EN
CALSCALE:GREGORIAN
METHOD:PUBLISH
X-ORIGINAL-URL:https://tgssolidario.com.br
X-WR-CALDESC:Eventos para TGS Solidário
REFRESH-INTERVAL;VALUE=DURATION:PT1H
X-Robots-Tag:noindex
X-PUBLISHED-TTL:PT1H
BEGIN:VTIMEZONE
TZID:America/Sao_Paulo
BEGIN:STANDARD
TZOFFSETFROM:-0300
TZOFFSETTO:-0300
TZNAME:-03
DTSTART:20250101T000000
END:STANDARD
END:VTIMEZONE
BEGIN:VEVENT
DTSTART;VALUE=DATE:20250809
DTEND;VALUE=DATE:20250810
DTSTAMP:20260421T061950
CREATED:20250725T182004Z
LAST-MODIFIED:20250725T182004Z
UID:11368-1754697600-1754783999@tgssolidario.com.br
SUMMARY:Aniversário de 10 anos do Instituto Coletivo Social e Cultural  Sol Nascente
DESCRIPTION:O Coletivo Cultural e Social Sol Nascente\, com grande alegria\, vem por meio deste solicitar o seu valioso apoio e parceria para a celebração do nosso 10º aniversário\, um marco significativo em nossa trajetória de promoção cultural e impacto social. O evento será realizado no dia 09 de agosto de 2025\, das 13h00 às 21h45.\nDesde a nossa fundação\, o Coletivo Sol Nascente tem atuado incansavelmente para fomentar a arte e a cultura nas comunidades locais\, oferecer oportunidades de desenvolvimento para jovens e adultos\, e promover a inclusão social através de diversas iniciativas.\nPara tornar essa comemoração inesquecível e reafirmar nosso compromisso com a comunidade\, estamos organizando uma festa aberta ao público\, que contará com diversas atrações culturais\, atividades recreativas e ações sociais. Acreditamos que a sua colaboração será fundamental para o sucesso deste evento e para a ampliação do nosso impacto
URL:https://tgssolidario.com.br/acao/aniversario-de-10-anos-do-instituto-coletivo-social-e-cultural-sol-nascente/
LOCATION:Ceilândia\, QNM 12\, Via NM 12-A\, Lote 12\, Apto 803\, Brasília\, 72.210-121
CATEGORIES:Trabalho social
ATTACH;FMTTYPE=image/jpeg:https://tgssolidario.com.br/wp-content/uploads/2025/07/WhatsApp-Image-2025-07-25-at-14.18.22.jpeg
ORGANIZER;CN="suelen emerick":MAILTO:marketing@tgssolidario.com.br
END:VEVENT
END:VCALENDAR