BEGIN:VCALENDAR
VERSION:2.0
PRODID:-//TGS Solidário - ECPv6.10.1.1//NONSGML v1.0//EN
CALSCALE:GREGORIAN
METHOD:PUBLISH
X-ORIGINAL-URL:https://tgssolidario.com.br
X-WR-CALDESC:Eventos para TGS Solidário
REFRESH-INTERVAL;VALUE=DURATION:PT1H
X-Robots-Tag:noindex
X-PUBLISHED-TTL:PT1H
BEGIN:VTIMEZONE
TZID:America/Sao_Paulo
BEGIN:STANDARD
TZOFFSETFROM:-0300
TZOFFSETTO:-0300
TZNAME:-03
DTSTART:20250101T000000
END:STANDARD
END:VTIMEZONE
BEGIN:VEVENT
DTSTART;TZID=America/Sao_Paulo:20250607T190000
DTEND;TZID=America/Sao_Paulo:20250607T210000
DTSTAMP:20260419T133526
CREATED:20250602T154621Z
LAST-MODIFIED:20250602T154621Z
UID:11265-1749322800-1749330000@tgssolidario.com.br
SUMMARY:Graduação Jiu-Jitsu Inclusivo
DESCRIPTION:O jiu-jitsu para crianças com autismo é mais um esporte que podemos incluir na lista de atividades que ajudam quem tem o Transtorno do Espectro Autista (TEA). Assim como outras modalidades\, melhora a interação social e as coordenações cognitiva e motora. \nBenefícios do jiu-jitsu para crianças com autismo\nAs mudanças que o jiu-jitsu traz para a vida das crianças e adultos são várias. \nResponsabilidade: consciência do compromisso que tem toda semana e se organizar para não faltar aos treinos. \nDisciplina: algumas crianças com autismo têm dificuldade de entender as regras\, mas o jiu-jitsu trouxe essa habilidade para a vida de que faz. \nCondicionamento físico: com a prática do esporte\, o corpo ganha mais flexibilidade. \nInteração: quem frequenta as atividades passam a conversar e até a brincar com os demais lutadores antes do treino. \nMedicação: Dependendo do caso deixa de precisar da medicação. \nComportamento: no esporte\, as crianças e adultos ficam  mais tranquilo. \nQS 410 conj J lote 5 Loja 01 Samambaia Sul Brasília – DF\, 70297-400\nAtendimento com hora marcada
URL:https://tgssolidario.com.br/acao/graduacao-jiu-jitsu-inclusivo/
LOCATION:QN 431 A/E – Samambaia\, Brasília – DF\, 72329-109\, QN 431 A/E - Samambaia\, Brasília - DF\,\, samambaia\, df\, 72329-109\, Brazil
CATEGORIES:Trabalho Comunitário,Trabalho social
ATTACH;FMTTYPE=image/jpeg:https://tgssolidario.com.br/wp-content/uploads/2025/05/WhatsApp-Image-2025-05-26-at-13.29.15-1.jpeg
END:VEVENT
BEGIN:VEVENT
DTSTART;TZID=America/Sao_Paulo:20250609T080000
DTEND;TZID=America/Sao_Paulo:20250712T170000
DTSTAMP:20260419T133526
CREATED:20250609T174552Z
LAST-MODIFIED:20250609T181821Z
UID:11297-1749456000-1752339600@tgssolidario.com.br
SUMMARY:Festa Junina - Casa da Criança Batuíra
DESCRIPTION:Dia 12 de julho estaremos realizando nossa Festa Junina da Casa da Criança Batuíra\, uma festa voltada internamente para nossas crianças e adolescentes. Para tal precisamos de doações de insumos como milho de pipoca\, milho de canjica\, leite condensado\, creme de leite\, massa de pastel\, farinha de trigo\, refrigerante\, suco\, calabresa\, flocão de milho\, leite\, óleo\, lata de milho além do empréstimo de máquina de algodão doce\, empréstimo de máquina de fazer pipoca\, dj com som ou banda\, além de voluntários para decoração da festa.  \nFaça parte dessa corrente de alegria e ajude a promover a festa interna na Casa da Criança Batuíra
URL:https://tgssolidario.com.br/acao/festa-junina-casa-da-crianca-batuira/
LOCATION:Ceilândia\, QNM 12\, Via NM 12-A\, Lote 12\, Apto 803\, Brasília\, 72.210-121
CATEGORIES:Trabalho Comunitário,Trabalho social
ATTACH;FMTTYPE=image/jpeg:https://tgssolidario.com.br/wp-content/uploads/2025/06/IMG_8410.jpg
ORGANIZER;CN="Giovanna":MAILTO:captacao@ccbatuira.org.br
END:VEVENT
END:VCALENDAR