BEGIN:VCALENDAR
VERSION:2.0
PRODID:-//TGS Solidário - ECPv6.10.1.1//NONSGML v1.0//EN
CALSCALE:GREGORIAN
METHOD:PUBLISH
X-WR-CALNAME:TGS Solidário
X-ORIGINAL-URL:https://tgssolidario.com.br
X-WR-CALDESC:Eventos para TGS Solidário
REFRESH-INTERVAL;VALUE=DURATION:PT1H
X-Robots-Tag:noindex
X-PUBLISHED-TTL:PT1H
BEGIN:VTIMEZONE
TZID:America/Sao_Paulo
BEGIN:STANDARD
TZOFFSETFROM:-0300
TZOFFSETTO:-0300
TZNAME:-03
DTSTART:20260101T000000
END:STANDARD
END:VTIMEZONE
BEGIN:VEVENT
DTSTART;TZID=America/Sao_Paulo:20260309T100000
DTEND;TZID=America/Sao_Paulo:20260309T153000
DTSTAMP:20260421T113910
CREATED:20260303T221735Z
LAST-MODIFIED:20260303T221735Z
UID:14413-1773050400-1773070200@tgssolidario.com.br
SUMMARY:Embalagem De Alimentos - Festival Onda Coreana
DESCRIPTION:Depois de três dias intensos de arrecadação\, chegou o momento de dar continuidade a esse gesto de amor: a etapa de triagem e embalagem dos alimentos. \n📦 Dia 09/03 (segunda-feira)\n🕙 A partir das 10h\n📍 Estacionamento H \nVamos nos reunir para separar\, organizar e embalar tudo o que foi arrecadado. Esse é um momento fundamental do processo\, pois é aqui que transformamos as doações em cestas cheias de cuidado\, dignidade e respeito para as famílias que irão receber os alimentos. \nA embalagem é mais do que uma etapa logística\, é um ato de solidariedade. Cada cesta organizada representa tempo dedicado\, mãos que servem e corações comprometidos com quem mais precisa. \nContamos com você para finalizar essa corrente do bem com a mesma energia que marcou a arrecadação. 💛
URL:https://tgssolidario.com.br/acao/embalagem-de-alimentos-festival-onda-coreana/
LOCATION:Taguatinga Shopping – QS 01 Rua 210\, Taguatinga\, Brasília
CATEGORIES:Embalagem de Cestas,Trabalho Comunitário
ATTACH;FMTTYPE=image/jpeg:https://tgssolidario.com.br/wp-content/uploads/2026/03/WhatsApp-Image-2026-03-03-at-15.51.53-3.jpeg
END:VEVENT
END:VCALENDAR