BEGIN:VCALENDAR
VERSION:2.0
PRODID:-//TGS Solidário - ECPv6.10.1.1//NONSGML v1.0//EN
CALSCALE:GREGORIAN
METHOD:PUBLISH
X-ORIGINAL-URL:https://tgssolidario.com.br
X-WR-CALDESC:Eventos para TGS Solidário
REFRESH-INTERVAL;VALUE=DURATION:PT1H
X-Robots-Tag:noindex
X-PUBLISHED-TTL:PT1H
BEGIN:VTIMEZONE
TZID:America/Sao_Paulo
BEGIN:STANDARD
TZOFFSETFROM:-0300
TZOFFSETTO:-0300
TZNAME:-03
DTSTART:20260101T000000
END:STANDARD
END:VTIMEZONE
BEGIN:VEVENT
DTSTART;TZID=America/Sao_Paulo:20260209T100000
DTEND;TZID=America/Sao_Paulo:20260209T150000
DTSTAMP:20260421T131823
CREATED:20260202T221135Z
LAST-MODIFIED:20260206T233657Z
UID:13952-1770631200-1770649200@tgssolidario.com.br
SUMMARY:Nipo Festival - Embalagem e Entrega De Cestas
DESCRIPTION:O Nipo Festival não acaba quando termina! Na segunda-feira\, 09/02\, às 10h\, o TGS Solidário convida os voluntários para a etapa de embalagem dos alimentos arrecadados no Nipo Festival – Mangai\, no estacionamento H. \nEssa é uma fase muito especial do processo: é quando cada item recebido se organiza em forma de cesta e começa a ganhar destino. A função é simples e cheia de significado: triar os alimentos e montar as cestas com carinho\, pensando em cada pessoa que irá recebê-las. \nÉ um momento de trabalho em equipe\, troca e generosidade. Cada mão que ajuda acelera o caminho da doação até quem precisa. Toda ajuda faz diferença e cada cesta montada carrega um pedaço dessa rede de solidariedade que construímos juntos. \nApós embalar\, é o momento de entregar as cestas na Instituição Social comtemplada\, a Casa Da Criança Batuíra. A Casa da Criança Batuíra acolhe crianças e adolescentes que enfrentam situações de vulnerabilidade\, oferecendo não apenas abrigo\, mas também cuidado\, amor e a chance de reescrever suas histórias. \nContamos com você para transformar arrecadação em acolhimento e fazer a diferença de verdade! \nData: 09/02/26\nHorário de Início da Embalagem: 10h\nLocal: Estacionamento H\, Taguatinga Shopping \nPrevisão de saída para entrega: 14h30 \nLocal da Entrega: Casa da Criança Batuíra: QNM 32\, Área Especial\, Módulo C\, Ceilândia Norte \n 
URL:https://tgssolidario.com.br/acao/nipo-festival-embalagem-de-cestas/
LOCATION:Taguatinga Shopping – QS 01 Rua 210\, Taguatinga\, Brasília
CATEGORIES:Embalagem de Cestas,Entrega de Doações,Trabalho Comunitário,Trabalho social
ATTACH;FMTTYPE=image/jpeg:https://tgssolidario.com.br/wp-content/uploads/2026/02/5.jpg.jpeg
END:VEVENT
END:VCALENDAR