BEGIN:VCALENDAR
VERSION:2.0
PRODID:-//TGS Solidário - ECPv6.10.1.1//NONSGML v1.0//EN
CALSCALE:GREGORIAN
METHOD:PUBLISH
X-ORIGINAL-URL:https://tgssolidario.com.br
X-WR-CALDESC:Eventos para TGS Solidário
REFRESH-INTERVAL;VALUE=DURATION:PT1H
X-Robots-Tag:noindex
X-PUBLISHED-TTL:PT1H
BEGIN:VTIMEZONE
TZID:America/Sao_Paulo
BEGIN:STANDARD
TZOFFSETFROM:-0300
TZOFFSETTO:-0300
TZNAME:-03
DTSTART:20250101T000000
END:STANDARD
END:VTIMEZONE
BEGIN:VEVENT
DTSTART;TZID=America/Sao_Paulo:20251118T100000
DTEND;TZID=America/Sao_Paulo:20251118T170000
DTSTAMP:20260421T163412
CREATED:20251031T183726Z
LAST-MODIFIED:20251103T204405Z
UID:12602-1763460000-1763485200@tgssolidario.com.br
SUMMARY:Embalagem De Cestas - TGS RUN
DESCRIPTION:Depois de tanta energia na TGS RUN\, é hora de transformarmos toda essa vibração em solidariedade! 🧡\nNo dia 18/11\, teremos uma missão super especial: embalar os alimentos arrecados durante a corrida\, que vão levar esperança para muitas famílias. \n📍 Local: Loja do TGS Solidário\n📅 Data: 18 de novembro (terça-feira)\n🕙 Início: a partir das 10h \n👥 Turnos disponíveis: \nManhã: 10h às 13h — 6 vagas \nTarde: 14h às 17h — 6 vagas \nSe você quer continuar espalhando boas ações e fazer parte desse pós-evento cheio de propósito\, vem com a gente! 💪\nJuntos\, vamos mostrar que a verdadeira corrida é pela solidariedade!
URL:https://tgssolidario.com.br/acao/embalagem-de-cestas-tgs-run/
LOCATION:Taguatinga Shopping\, QS 01 Lote 40 - Taguatinga\, Brasília\, DF\, 71950-904\, Brazil
CATEGORIES:Embalagem de Cestas,Trabalho social
ATTACH;FMTTYPE=image/jpeg:https://tgssolidario.com.br/wp-content/uploads/2025/10/TGS-RUN-EMBALAGEM-DE-CESTAS-SITE.jpg
END:VEVENT
END:VCALENDAR