BEGIN:VCALENDAR
VERSION:2.0
PRODID:-//TGS Solidário - ECPv6.10.1.1//NONSGML v1.0//EN
CALSCALE:GREGORIAN
METHOD:PUBLISH
X-ORIGINAL-URL:https://tgssolidario.com.br
X-WR-CALDESC:Eventos para TGS Solidário
REFRESH-INTERVAL;VALUE=DURATION:PT1H
X-Robots-Tag:noindex
X-PUBLISHED-TTL:PT1H
BEGIN:VTIMEZONE
TZID:America/Sao_Paulo
BEGIN:STANDARD
TZOFFSETFROM:-0300
TZOFFSETTO:-0300
TZNAME:-03
DTSTART:20240101T000000
END:STANDARD
END:VTIMEZONE
BEGIN:VEVENT
DTSTART;VALUE=DATE:20241206
DTEND;VALUE=DATE:20241207
DTSTAMP:20260424T020017
CREATED:20241205T220925Z
LAST-MODIFIED:20241205T220925Z
UID:10902-1733443200-1733529599@tgssolidario.com.br
SUMMARY:FEIRA NATALINA LAR DOS VELINHOS
DESCRIPTION:Dias 06 e 07 de Dezembro teremos a primeira Edição da Feira Natalina do Lar dos Velhinhos Maria Madalena 🎄🧓🏼🏠 \nE por isso resolvemos lançar um SORTEIO 🤩compartilhe esse post e nos ajude a divulgar essa Feira que será um sucesso \, nos dias 06 e 07\, teremos Bazar \, venda de artigos natalinos \, música boa e claro aquela comida gostosa para você trazer toda a sua família . ♥️ \n‼️Atenção para as regras do sorteio : \n1- Curtir \, comentar e compartilhar esse post nas suas redes marcando nosso Instagram \, 📲 \n2- Comentar o nome de 2 amigos que também vem participar dessa Feira em prol daqui da Instituição . 🏠👵🏼 \nNos ajude em prol dessa causa quanto mais participar mais chances de ganhar .🥳🥳 \nO sorteio será realizado no dia 07/12 durante a Feira Natalina.🧑‍🎄🎄 \nLocal : SMPW Trecho 3 Área Especial 1/2 – Park Way (Núcleo Bandeirante)
URL:https://tgssolidario.com.br/acao/feira-natalina-lar-dos-velinhos/
LOCATION:DF
CATEGORIES:Decoração,Trabalho Comunitário,Trabalho social
ATTACH;FMTTYPE=image/png:https://tgssolidario.com.br/wp-content/uploads/2024/12/feira-natalina-5.png
END:VEVENT
END:VCALENDAR